BEGIN:VCALENDAR
VERSION:2.0
PRODID:-//wp-events-plugin.com//7.2.3.1//EN
TZID:Europe/Paris
X-WR-TIMEZONE:Europe/Paris
BEGIN:VEVENT
UID:128@wfeo.org
DTSTART;TZID=Europe/Paris;VALUE=DATE:20250304
DTEND;TZID=Europe/Paris;VALUE=DATE:20250305
DTSTAMP:20250227T113431Z
URL:https://www.wfeo.org/events/world-engineering-day-2025/
SUMMARY:World Engineering Day 2025
DESCRIPTION:\n\nUnder the High Patronage of \nMr Emmanuel MACRON\nPresident
  of the French Republic\n\n&nbsp\;\nIn November 2019\, UNESCO proclaimed t
 he World Engineering Day for Sustainable Development (WED) at its 40th Gen
 eral Conference. It is celebrated worldwide on March 4 each year since 202
 0.\n\nSince then\, WFEO has co-led with UNESCO the annual World Engineer's
  Day celebrations on March 4\, federating the initiatives and events organ
 ized by its hundred or so member institutions\, and organizing a major eve
 nt each post-Covid year (in 2022 in Costa Rica\, in 2023 in Spain and in 2
 024 in Portugal).  \n\nThis year\, the major event will be held at UNESCO 
 headquarters in Paris. The March 4\, 2025 event will give the floor to lea
 ding governmental\, scientific and entrepreneurial figures\, to illustrate
  the diversity of issues and contributions linking the engineering profess
 ion to the United Nations' sustainable development goals. \n\nThe event wi
 ll be broadcasted live in this page.\n\nThis event will highlight the key 
 role played by engineers from all other the world\, in advancing the Unite
 d Nations 2030 Agenda of Sustainable Development Goals.\n\nWED celebration
 s are hosted globally\, uniting organizations\, governments\, educational 
 institutions\, and individuals. Events include:\n\nMain Event\n\nHeld at U
 NESCO in Paris\, themed "Shaping a Sustainable Future Through Engineering"
  featuring keynotes\, panels and discussions.\n\n\nHackathon\n\nA global c
 ompetition solving real-world challenges\, with winners revealed during th
 e main event.\n\n\nLive Stream\n\nShowcasing global events and engineering
 ’s worldwide impact and collaboration.\n\n\nLecture & Dinner\n\nHonoring
  excellence in engineering and fostering professional connections.\n\n\nMo
 re information\, including the detailed programme\, will be available soon
 .\n\n&nbsp\;\nFor more information:\n\n World Engineering Day main event l
 ive broadcast\n\n World Engineering Day main event webpage\n\n World Engin
 eering Day main event draft program\n\n World Engineering Day website\n\n
ATTACH;FMTTYPE=image/jpeg:https://www.wfeo.org/wp-content/uploads/WED25_Of
 ficial_Banner.jpg
CATEGORIES:UNESCO event,WFEO event
END:VEVENT
BEGIN:VTIMEZONE
TZID:Europe/Paris
X-LIC-LOCATION:Europe/Paris
BEGIN:STANDARD
DTSTART:20241027T020000
TZOFFSETFROM:+0200
TZOFFSETTO:+0100
TZNAME:CET
END:STANDARD
END:VTIMEZONE
END:VCALENDAR