BEGIN:VCALENDAR
VERSION:2.0
PRODID:-//wp-events-plugin.com//7.2.3.1//EN
TZID:Europe/Paris
X-WR-TIMEZONE:Europe/Paris
BEGIN:VEVENT
UID:124@wfeo.org
DTSTART;TZID=Europe/Paris:20250127T140000
DTEND;TZID=Europe/Paris:20250127T150000
DTSTAMP:20250108T104231Z
URL:https://www.wfeo.org/events/wfeo-committee-on-energy-webinar-electrici
 ty-access-gaps-and-policy-recommendations/
SUMMARY:WFEO Committee on Energy webinar "Electricity Access Gaps and Polic
 y Recommendations"
DESCRIPTION:\n\nThe WFEO Committee on Energy (WFEO-CE) invites you to take 
 part in the webinar "Electricity Access Gaps and Policy Recommendations" t
 hat will take place on Monday 27 January 2025 from 2 to 3 pm CET via Zoom.
 \n\nThe registration link is available in this page.\n\nModerator:\n\nMari
 e-Line Vaiani\, Chair of the WFEO-CE and Secretary General of the French E
 nergy Council.\n\n\nSpeaker:\n\nAbubakar Sambo\, Professor Emeritus\, Vice
 -Chair of the WFEO-CE for Africa and Chair of the Electrification Task Gro
 up\n\n\nAbubakar Sani Sambo\, a Professor of Mechanical Engineering (Energ
 y Studies) at Usmanu Danfodiyo University\, Sokoto\, is the President-Elec
 t of The The Nigerian Academy of Science. \nHe is the Chairman of the Nige
 rian Member Committee of the World Energy Council. He has previously serve
 d as Vice-Chancellor of Abubakar Tafawa Balewa University\, Bauchi\; Vice-
 Chancellor of Kaduna State University\; Director-General of Energy Commiss
 ion of Nigeria (ECN) and Special Adviser to the President on Energy. \nHe 
 has a First Class Honours B.Eng degree from A.B.U. Zaria and a D.Phil degr
 ee from the University of Sussex (UK) both in Mechanical Engineering. He h
 as written numerous articles on renewable energy\, energy planning and app
 ropriate hashtag#technology. After formally retiring from Usmanu Danfodiyo
  University\, the institution honoured him with the Professor Emeritus app
 ointment in April 2024.\n\n
ATTACH;FMTTYPE=image/jpeg:https://www.wfeo.org/wp-content/uploads/WFEO-CE_
 webinar_2025-01-27_banner.jpg
CATEGORIES:WFEO event
END:VEVENT
BEGIN:VTIMEZONE
TZID:Europe/Paris
X-LIC-LOCATION:Europe/Paris
BEGIN:STANDARD
DTSTART:20241027T020000
TZOFFSETFROM:+0200
TZOFFSETTO:+0100
TZNAME:CET
END:STANDARD
END:VTIMEZONE
END:VCALENDAR