BEGIN:VCALENDAR
VERSION:2.0
PRODID:-//wp-events-plugin.com//7.2.3.1//EN
TZID:Europe/Paris
X-WR-TIMEZONE:Europe/Paris
BEGIN:VEVENT
UID:84@wfeo.org
DTSTART:20240303T160000Z
DTEND:20240307T160000Z
DTSTAMP:20240301T101055Z
URL:https://www.wfeo.org/events/wfeo-ceit-webinars-in-celebration-of-wed-2
 024/
SUMMARY:WFEO-CEIT webinars in celebration of WED 2024
DESCRIPTION:\n\nTo celebrate the World Engineering Day for Sustainable Deve
 lopment 2024\, the Institution of Engineers\, Malaysia and the WFEO Commit
 tee on Engineering for Innovative Technologies (CEIT) will organize a seri
 e of webinars  that will be held virtually between 4 and 9 March 2024\, fr
 om 9:00 AM to 6:00 PM (Malaysia time: UTC+ 8).\n\nThe teaser is available 
 by clicking on the below image.\n\nhttps://youtu.be/ljtZ9zKxeXM\n\n\n4 Mar
 ch - 9am - 11am\nWebinar Panel Session “Continuing Career Development (A
 cademic) In Oil\, Gas & Mining Industry” \nVarious speakers\n\n4 March -
  11am - 1pm\nWebinar Talk on “Post Green Revolution Challenges (and Oppo
 rtunities) for Malaysian Agricultural Engineers”\nSpeaker: Ir. Ayob Sukr
 a\n\n4 March - 2pm - 4pm\nPre-AGM Talk on “Artificial Intelligence (A.I)
  and its implications on science and engineering (A perspective from a pra
 cticing professional engineer)”\nSpeaker: Ir. Tejinder Singh\n\n4 March 
 - 4pm - 6pm\nWebinar Talk on The Evolution of Simulator Development: From 
 Historical Milestones to Modern Technologies and Applications\nSpeaker: As
 soc. Prof. Dr. Ahmad Faisal Mohamad Ayob\n\n\n5 March - 9am - 11am\nWebina
 r Talk on “An Innovative and Sustainable Road Material to Improve Road S
 urface Quality While Reducing Plastic Waste  -Plastic Modified Bitumen” 
 \nSpeaker : Ir. Phoon Chee Hoe \n\n5 March - 11am - 1pm\nWebinar Talk on 
 “Reducing Hull Resistance Using Air Injection For LNG Vessel With Free B
 allast System” \nSpeaker: Prof. Dr. Adi Maimun\n\n5 March - 2pm - 4pm\nW
 ebinar Talk on “Waste to Wealth”\nSpeaker: Y.Bhg Datuk Kadir Mohd Din\
 n\n5 March - 4pm - 6pm\nWebinar Talk on "Beyond The Horizon: Navigating th
 e Future of Aerospace" \nSpeaker: Ts. Uma Shangery\n\n\n6 March - 9am - 11
 am\nWebinar Talk on "Electric Vehicle Initiative in Malaysian Government F
 leets: A Sustainable Approach to Transportation" \nSpeaker: Ts. Mohd Azlan
  Umar \n\n6 March - 11am - 1pm\nWebinar Talk on “Flood Risk Management a
 nd Early Warning Systems”\nSpeaker: Mr Nicksa Orlic\n\n6 March - 2pm - 4
 pm\nWebinar Talk on "Polyurethane Flatbed: An Ingenious Solution to Resolv
 e Settlement of Soft Ground"\nSpeaker: Ir. Dr Ismacahyadi Bagus\n\n6 March
  - 4pm - 6pm\nWebinar Talk on "Asset Life Extension Management of Ageing O
 ffshore Fields" \nSpeaker: Ms. Intan Sharlina Shaarani\n\n\n7 March - 9am 
 - 11am\nWebinar Talk on “Controlling and managing sand production from o
 il and gas wells”\nSpeaker: Pak Latief Riyanto \n\n7 March - 11am - 1pm\
 nWebinar on “Urban Flash Flooding and the Revised Curve Number Model” 
 \nSpeaker: Ir. Dr. Ling Lloyd \n\n7 March - 2pm - 4pm\nWebinar Talk on "Ma
 naging Knowledge in Projects"\nSpeaker: Sr. Roznita Othman\n\n7 March - 4p
 m - 6pm\nWebinar Talk on "Net Zero by 2050" \nSpeaker: Mr. C.K. Tang\n\n\n
 8 March - 9am - 11am\nWebinar Talk on "Implementation of Building Informat
 ion Modelling (BIM) for Government Projects in Malaysia"\nSpeaker: Ir. Ts.
  Mohd Faiz bin Shapiai\n\n8 March - 11am - 1pm\nWebinar Talk on "Well Plug
  & Abandonment – The Complexities"\nSpeaker: Ir. Razak Yakob\n\n8 March 
 - 2pm - 4pm\nWebinar Talk on "Sustainable Conscious Community and Property
  Manangement Cost : Smart City in The Marketing"\nSpeaker: Ir. Dr. Lam Wei
  Haur\n\n8 March - 4pm - 6pm\nWebinar Talk on "Green Financing for Environ
 ment\, Social and Governance (ESG) Goals"\nSpeaker: Dr. Hari Ramalu Ragava
 n\n\n&nbsp\;\nFor more information:\n\n Webinars presentation in IEM websi
 te\n\n Webinars presentation in PDF
ATTACH;FMTTYPE=image/jpeg:https://www.wfeo.org/wp-content/uploads/CEIT_WED
 24_Webinars.png
CATEGORIES:WFEO event,WFEO member event
END:VEVENT
END:VCALENDAR