BEGIN:VCALENDAR
VERSION:2.0
PRODID:-//wp-events-plugin.com//7.2.3.1//EN
TZID:Europe/Paris
X-WR-TIMEZONE:Europe/Paris
BEGIN:VEVENT
UID:26@wfeo.org
DTSTART;TZID=Europe/Paris;VALUE=DATE:20210413
DTEND;TZID=Europe/Paris;VALUE=DATE:20210414
DTSTAMP:20230123T115937Z
URL:https://www.wfeo.org/events/wfeo-cdrm-online-course-managing-the-risk-
 of-debris-and-mud-flow-related-disasters/
SUMMARY:WFEO CDRM Online course: Managing the risk of debris and mud flow-r
 elated disasters
DESCRIPTION:\nThe WFEO Committee on Disaster Risk Management\, with the sup
 port of the Peruvian Engineers Association (CIP)\, organizes the free onli
 ne course “Managing the risk of debris and mud flow-related disasters“
 \, bringing together distinguished specialists from different countries to
  address the subject through six topics:\n\nClimate and mass flows: geogra
 phic distribution – Dr. Paul Santi\, Colorado School of Mines\, USA\nHaz
 ard maps for risk prevention and reduction – Dr. Reginald Hermanns\, Nor
 wegian University of Science and Technology\, NO\nVulnerability assessment
  of building and infrastructure – Dr. Dimitris Pitilakis\, Aristotle Uni
 versity of Thessaloniki\, GR\nEarly warning systems for debris and mudflow
 s – Dr. Edier Aristizabal\, National University of Colombia\, CO\nCapaci
 ty building and social organization – Dr. Silvia Hostettler\, EPFL Susta
 inability\, CH\nEngineering solutions in mass flow-prone areas – Dr. Fed
 erico Vagnon\, Università degli Studi di Torino\, Italy\n\nThe Online cou
 rse begins Tuesday 13 April 2021.\nYou will find more information in the f
 ollowing page.
ATTACH;FMTTYPE=image/jpeg:https://www.wfeo.org/wp-content/uploads/CDRM-Onl
 ine-course-04-01.png
CATEGORIES:WFEO event
END:VEVENT
BEGIN:VTIMEZONE
TZID:Europe/Paris
X-LIC-LOCATION:Europe/Paris
BEGIN:DAYLIGHT
DTSTART:20210328T030000
TZOFFSETFROM:+0100
TZOFFSETTO:+0200
TZNAME:CEST
END:DAYLIGHT
END:VTIMEZONE
END:VCALENDAR