BEGIN:VCALENDAR
VERSION:2.0
PRODID:-//wp-events-plugin.com//7.2.3.1//EN
TZID:Europe/Paris
X-WR-TIMEZONE:Europe/Paris
BEGIN:VEVENT
UID:135@wfeo.org
DTSTART:20250715T053000Z
DTEND:20250716T133000Z
DTSTAMP:20250624T092615Z
URL:https://www.wfeo.org/events/the-reinforce-2025-international-conferenc
 e/
SUMMARY:The "REINFORCE 2025" International Conference
DESCRIPTION:\n\nThe Institution of Engineers\, India (IEI)\, in association
  with Maccaferri and supported by WFEO\, invites you to participate in the
  "REINFORCE 2025" (Resilient Engineering Innovations for a Future-Oriented
 \, Reliable\, and Circular Economy Infrastructure) event\, to be held virt
 ually on 15 and 16 July 2025.\n\nThe registration is available in this pag
 e.\n\n"REINFORCE 2025" will highlight key innovations in geotechnical and 
 civil engineering\, focusing on sustainability\, environmental impact\, di
 gital  transformation\, and resilient infrastructure. Experts from leading
  institutions\, industry and renowned international experts will share ins
 ights into emerging technologies and practical solutions for today’s inf
 rastructure challenges.\n\n"REINFORCE 2025" is a high-impact virtual confe
 rence uniting global minds to shape the future of resilient and sustainabl
 e infrastructure. The event will spotlight breakthrough innovations in geo
 technical engineering\, digital transformation\, and smart\, sustainable s
 olutions for tomorrow’s world. Join top experts\, visionaries\, and indu
 stry leaders for cutting-edge insights and transformative ideas—all onli
 ne\, all in one place.\n&nbsp\;\nFor more information:\n\n "REINFORCE 2025
 " Brochure\n\n "REINFORCE 2025" Flyer\n\n "REINFORCE 2025" List of speaker
 s\n\n Institution of Engineers\, India (IEI) website\n
ATTACH;FMTTYPE=image/jpeg:https://www.wfeo.org/wp-content/uploads/REINFORC
 E-2025_banner2-short.png
CATEGORIES:WFEO event,WFEO member event
END:VEVENT
END:VCALENDAR