BEGIN:VCALENDAR
VERSION:2.0
PRODID:-//wp-events-plugin.com//7.2.3.1//EN
TZID:Europe/Paris
X-WR-TIMEZONE:Europe/Paris
BEGIN:VEVENT
UID:40@wfeo.org
DTSTART;TZID=Europe/Paris:20230505T100000
DTEND;TZID=Europe/Paris:20230505T133000
DTSTAMP:20230426T160302Z
URL:https://www.wfeo.org/events/global-solutions-summit-2023/
SUMMARY:Global Solutions Summit 2023
DESCRIPTION:\n\nThe Global Solutions Summit 2023 (GSS 2023) will be held on
  5 May between 10 AM to 1:30 PM EST (4 PM to 7:30 PM CEST)\, at the UN hea
 dquarters in New York\, with a focus on Leveraging the Diaspora\, Youth\, 
 and the African Continental Free Trade Area to Harness Science\, Technolog
 y and Innovation for the SDGs 2030. The co-organizers of GSS 2023 are the 
 Global Solutions Summit (GSS)\, in partnership with the United Nations Dep
 artment of Economic and Social Affairs (DESA)\, the World Federation of En
 gineering Organizations (WFEO) and its Affiliate Members and the American 
 Society of Civil Engineers (ASCE).\n\nThis event will complement and ampli
 fy the discussions of the Africa Day and STI Forum.\n\nWFEO Former Preside
 nt\, 2017-2019\, Dr Marlene Kanga AO will speak at the opening session and
  Chair of WFEO UN Relations Committee KN Gunalan will speak at the closing
 .\n&nbsp\;\nFor more information:\n\n GSS 2023 Program\n\n GSS 2023 Concep
 t note\n\n Summit webpage
ATTACH;FMTTYPE=image/jpeg:https://www.wfeo.org/wp-content/uploads/UN_STI_G
 SS-2023.png
CATEGORIES:UN event
END:VEVENT
BEGIN:VTIMEZONE
TZID:Europe/Paris
X-LIC-LOCATION:Europe/Paris
BEGIN:DAYLIGHT
DTSTART:20230326T030000
TZOFFSETFROM:+0100
TZOFFSETTO:+0200
TZNAME:CEST
END:DAYLIGHT
END:VTIMEZONE
END:VCALENDAR